BEGIN:VCALENDAR
VERSION:2.0
PRODID:-//Town of Neversink - ECPv6.15.13//NONSGML v1.0//EN
CALSCALE:GREGORIAN
METHOD:PUBLISH
X-ORIGINAL-URL:https://www.neversinkny.gov
X-WR-CALDESC:Events for Town of Neversink
REFRESH-INTERVAL;VALUE=DURATION:PT1H
X-Robots-Tag:noindex
X-PUBLISHED-TTL:PT1H
BEGIN:VTIMEZONE
TZID:America/New_York
BEGIN:DAYLIGHT
TZOFFSETFROM:-0500
TZOFFSETTO:-0400
TZNAME:EDT
DTSTART:20250309T070000
END:DAYLIGHT
BEGIN:STANDARD
TZOFFSETFROM:-0400
TZOFFSETTO:-0500
TZNAME:EST
DTSTART:20251102T060000
END:STANDARD
BEGIN:DAYLIGHT
TZOFFSETFROM:-0500
TZOFFSETTO:-0400
TZNAME:EDT
DTSTART:20260308T070000
END:DAYLIGHT
BEGIN:STANDARD
TZOFFSETFROM:-0400
TZOFFSETTO:-0500
TZNAME:EST
DTSTART:20261101T060000
END:STANDARD
BEGIN:DAYLIGHT
TZOFFSETFROM:-0500
TZOFFSETTO:-0400
TZNAME:EDT
DTSTART:20270314T070000
END:DAYLIGHT
BEGIN:STANDARD
TZOFFSETFROM:-0400
TZOFFSETTO:-0500
TZNAME:EST
DTSTART:20271107T060000
END:STANDARD
END:VTIMEZONE
BEGIN:VEVENT
DTSTART;VALUE=DATE:20260525
DTEND;VALUE=DATE:20260526
DTSTAMP:20260421T051514
CREATED:20260204T170240Z
LAST-MODIFIED:20260204T170459Z
UID:1888-1779667200-1779753599@www.neversinkny.gov
SUMMARY:Memorial Day
DESCRIPTION:
URL:https://www.neversinkny.gov/event/memorial-day/
CATEGORIES:Town of Neversink Holidays
END:VEVENT
BEGIN:VEVENT
DTSTART;VALUE=DATE:20260703
DTEND;VALUE=DATE:20260704
DTSTAMP:20260421T051515
CREATED:20260204T170426Z
LAST-MODIFIED:20260204T170426Z
UID:1890-1783036800-1783123199@www.neversinkny.gov
SUMMARY:Independence Day
DESCRIPTION:
URL:https://www.neversinkny.gov/event/independence-day/
CATEGORIES:Town of Neversink Holidays
END:VEVENT
BEGIN:VEVENT
DTSTART;VALUE=DATE:20260907
DTEND;VALUE=DATE:20260908
DTSTAMP:20260421T051515
CREATED:20260204T170908Z
LAST-MODIFIED:20260204T170908Z
UID:1892-1788739200-1788825599@www.neversinkny.gov
SUMMARY:Labor Day
DESCRIPTION:
URL:https://www.neversinkny.gov/event/labor-day/
CATEGORIES:Town of Neversink Holidays
END:VEVENT
BEGIN:VEVENT
DTSTART;VALUE=DATE:20261012
DTEND;VALUE=DATE:20261013
DTSTAMP:20260421T051515
CREATED:20260204T170942Z
LAST-MODIFIED:20260204T170942Z
UID:1894-1791763200-1791849599@www.neversinkny.gov
SUMMARY:Columbus Day
DESCRIPTION:
URL:https://www.neversinkny.gov/event/columbus-day/
CATEGORIES:Town of Neversink Holidays
END:VEVENT
BEGIN:VEVENT
DTSTART;VALUE=DATE:20261103
DTEND;VALUE=DATE:20261104
DTSTAMP:20260421T051515
CREATED:20260204T171011Z
LAST-MODIFIED:20260204T171011Z
UID:1896-1793664000-1793750399@www.neversinkny.gov
SUMMARY:Election Day
DESCRIPTION:
URL:https://www.neversinkny.gov/event/election-day/
CATEGORIES:Town of Neversink Holidays
END:VEVENT
BEGIN:VEVENT
DTSTART;VALUE=DATE:20261111
DTEND;VALUE=DATE:20261112
DTSTAMP:20260421T051515
CREATED:20260204T171038Z
LAST-MODIFIED:20260204T171038Z
UID:1898-1794355200-1794441599@www.neversinkny.gov
SUMMARY:Veteran’s Day
DESCRIPTION:
URL:https://www.neversinkny.gov/event/veterans-day/
CATEGORIES:Town of Neversink Holidays
END:VEVENT
BEGIN:VEVENT
DTSTART;VALUE=DATE:20261224
DTEND;VALUE=DATE:20261225
DTSTAMP:20260421T051515
CREATED:20260204T171129Z
LAST-MODIFIED:20260204T171204Z
UID:1900-1798070400-1798156799@www.neversinkny.gov
SUMMARY:½ Day Christmas
DESCRIPTION:
URL:https://www.neversinkny.gov/event/thanksgiving/
CATEGORIES:Town of Neversink Holidays
END:VEVENT
BEGIN:VEVENT
DTSTART;VALUE=DATE:20261225
DTEND;VALUE=DATE:20261226
DTSTAMP:20260421T051515
CREATED:20260204T171229Z
LAST-MODIFIED:20260204T171229Z
UID:1903-1798156800-1798243199@www.neversinkny.gov
SUMMARY:Christmas Day
DESCRIPTION:
URL:https://www.neversinkny.gov/event/christmas-day/
CATEGORIES:Town of Neversink Holidays
END:VEVENT
BEGIN:VEVENT
DTSTART;VALUE=DATE:20261231
DTEND;VALUE=DATE:20270101
DTSTAMP:20260421T051515
CREATED:20260204T171255Z
LAST-MODIFIED:20260204T171255Z
UID:1905-1798675200-1798761599@www.neversinkny.gov
SUMMARY:½ Day New Years
DESCRIPTION:
URL:https://www.neversinkny.gov/event/%c2%bd-day-new-years/
CATEGORIES:Town of Neversink Holidays
END:VEVENT
END:VCALENDAR