BEGIN:VCALENDAR
VERSION:2.0
PRODID:-//Town of Neversink - ECPv6.15.13//NONSGML v1.0//EN
CALSCALE:GREGORIAN
METHOD:PUBLISH
X-WR-CALNAME:Town of Neversink
X-ORIGINAL-URL:https://www.neversinkny.gov
X-WR-CALDESC:Events for Town of Neversink
REFRESH-INTERVAL;VALUE=DURATION:PT1H
X-Robots-Tag:noindex
X-PUBLISHED-TTL:PT1H
BEGIN:VTIMEZONE
TZID:America/New_York
BEGIN:DAYLIGHT
TZOFFSETFROM:-0500
TZOFFSETTO:-0400
TZNAME:EDT
DTSTART:20240310T070000
END:DAYLIGHT
BEGIN:STANDARD
TZOFFSETFROM:-0400
TZOFFSETTO:-0500
TZNAME:EST
DTSTART:20241103T060000
END:STANDARD
BEGIN:DAYLIGHT
TZOFFSETFROM:-0500
TZOFFSETTO:-0400
TZNAME:EDT
DTSTART:20250309T070000
END:DAYLIGHT
BEGIN:STANDARD
TZOFFSETFROM:-0400
TZOFFSETTO:-0500
TZNAME:EST
DTSTART:20251102T060000
END:STANDARD
BEGIN:DAYLIGHT
TZOFFSETFROM:-0500
TZOFFSETTO:-0400
TZNAME:EDT
DTSTART:20260308T070000
END:DAYLIGHT
BEGIN:STANDARD
TZOFFSETFROM:-0400
TZOFFSETTO:-0500
TZNAME:EST
DTSTART:20261101T060000
END:STANDARD
BEGIN:DAYLIGHT
TZOFFSETFROM:-0500
TZOFFSETTO:-0400
TZNAME:EDT
DTSTART:20270314T070000
END:DAYLIGHT
BEGIN:STANDARD
TZOFFSETFROM:-0400
TZOFFSETTO:-0500
TZNAME:EST
DTSTART:20271107T060000
END:STANDARD
END:VTIMEZONE
BEGIN:VEVENT
DTSTART;TZID=America/New_York:20260401T190000
DTEND;TZID=America/New_York:20260401T200000
DTSTAMP:20260421T104859
CREATED:20260204T172005Z
LAST-MODIFIED:20260204T172902Z
UID:1911-1775070000-1775073600@www.neversinkny.gov
SUMMARY:Planning Board Meeting
DESCRIPTION:Application Submission Due Date: 03/20/2026
URL:https://www.neversinkny.gov/event/planning-board-meeting-7/
CATEGORIES:Planning Board
END:VEVENT
BEGIN:VEVENT
DTSTART;TZID=America/New_York:20260304T190000
DTEND;TZID=America/New_York:20260304T200000
DTSTAMP:20260421T104859
CREATED:20260204T171932Z
LAST-MODIFIED:20260204T172927Z
UID:1909-1772650800-1772654400@www.neversinkny.gov
SUMMARY:Planning Board Meeting
DESCRIPTION:Application Submission Due Date: 02/20/2026
URL:https://www.neversinkny.gov/event/planning-board-meeting-6/
CATEGORIES:Planning Board
END:VEVENT
BEGIN:VEVENT
DTSTART;TZID=America/New_York:20260204T190000
DTEND;TZID=America/New_York:20260204T200000
DTSTAMP:20260421T104859
CREATED:20251231T182550Z
LAST-MODIFIED:20260204T173010Z
UID:1728-1770231600-1770235200@www.neversinkny.gov
SUMMARY:Planning Board Meeting
DESCRIPTION:Application Submission Due Date: 01/23/2026
URL:https://www.neversinkny.gov/event/planning-board-meeting-2/
CATEGORIES:Planning Board
END:VEVENT
BEGIN:VEVENT
DTSTART;TZID=America/New_York:20260107T190000
DTEND;TZID=America/New_York:20260107T200000
DTSTAMP:20260421T104859
CREATED:20260204T171801Z
LAST-MODIFIED:20260204T173039Z
UID:1907-1767812400-1767816000@www.neversinkny.gov
SUMMARY:Planning Board Meeting
DESCRIPTION:Application Submission Due Date: 12/26/2026
URL:https://www.neversinkny.gov/event/planning-board-meeting-5/
CATEGORIES:Planning Board
END:VEVENT
BEGIN:VEVENT
DTSTART;TZID=America/New_York:20260107T190000
DTEND;TZID=America/New_York:20260107T200000
DTSTAMP:20260421T104859
CREATED:20251231T181516Z
LAST-MODIFIED:20251231T181720Z
UID:1726-1767812400-1767816000@www.neversinkny.gov
SUMMARY:Planning Board Meeting
DESCRIPTION:
URL:https://www.neversinkny.gov/event/planning-board-meeting/
CATEGORIES:Planning Board
END:VEVENT
BEGIN:VEVENT
DTSTART;TZID=America/New_York:20251203T190000
DTEND;TZID=America/New_York:20251203T200000
DTSTAMP:20260421T104859
CREATED:20251231T182624Z
LAST-MODIFIED:20251231T182624Z
UID:1730-1764788400-1764792000@www.neversinkny.gov
SUMMARY:Planning Board Meeting
DESCRIPTION:
URL:https://www.neversinkny.gov/event/planning-board-meeting-3/
CATEGORIES:Planning Board
END:VEVENT
BEGIN:VEVENT
DTSTART;TZID=America/New_York:20251105T190000
DTEND;TZID=America/New_York:20251105T200000
DTSTAMP:20260421T104859
CREATED:20251231T182650Z
LAST-MODIFIED:20251231T182650Z
UID:1732-1762369200-1762372800@www.neversinkny.gov
SUMMARY:Planning Board Meeting
DESCRIPTION:
URL:https://www.neversinkny.gov/event/planning-board-meeting-4/
CATEGORIES:Planning Board
END:VEVENT
END:VCALENDAR