BEGIN:VCALENDAR
VERSION:2.0
PRODID:-//Town of Neversink - ECPv6.15.13//NONSGML v1.0//EN
CALSCALE:GREGORIAN
METHOD:PUBLISH
X-WR-CALNAME:Town of Neversink
X-ORIGINAL-URL:https://www.neversinkny.gov
X-WR-CALDESC:Events for Town of Neversink
REFRESH-INTERVAL;VALUE=DURATION:PT1H
X-Robots-Tag:noindex
X-PUBLISHED-TTL:PT1H
BEGIN:VTIMEZONE
TZID:America/New_York
BEGIN:DAYLIGHT
TZOFFSETFROM:-0500
TZOFFSETTO:-0400
TZNAME:EDT
DTSTART:20240310T070000
END:DAYLIGHT
BEGIN:STANDARD
TZOFFSETFROM:-0400
TZOFFSETTO:-0500
TZNAME:EST
DTSTART:20241103T060000
END:STANDARD
BEGIN:DAYLIGHT
TZOFFSETFROM:-0500
TZOFFSETTO:-0400
TZNAME:EDT
DTSTART:20250309T070000
END:DAYLIGHT
BEGIN:STANDARD
TZOFFSETFROM:-0400
TZOFFSETTO:-0500
TZNAME:EST
DTSTART:20251102T060000
END:STANDARD
BEGIN:DAYLIGHT
TZOFFSETFROM:-0500
TZOFFSETTO:-0400
TZNAME:EDT
DTSTART:20260308T070000
END:DAYLIGHT
BEGIN:STANDARD
TZOFFSETFROM:-0400
TZOFFSETTO:-0500
TZNAME:EST
DTSTART:20261101T060000
END:STANDARD
BEGIN:DAYLIGHT
TZOFFSETFROM:-0500
TZOFFSETTO:-0400
TZNAME:EDT
DTSTART:20270314T070000
END:DAYLIGHT
BEGIN:STANDARD
TZOFFSETFROM:-0400
TZOFFSETTO:-0500
TZNAME:EST
DTSTART:20271107T060000
END:STANDARD
END:VTIMEZONE
BEGIN:VEVENT
DTSTART;TZID=America/New_York:20260421T190000
DTEND;TZID=America/New_York:20260421T200000
DTSTAMP:20260423T050917
CREATED:20260204T173344Z
LAST-MODIFIED:20260204T173344Z
UID:1947-1776798000-1776801600@www.neversinkny.gov
SUMMARY:Zoning Board Meeting
DESCRIPTION:Application Submission Due Date: 04/10/2026
URL:https://www.neversinkny.gov/event/zoning-board-meeting-6/
CATEGORIES:Zoning Board
END:VEVENT
BEGIN:VEVENT
DTSTART;TZID=America/New_York:20260317T190000
DTEND;TZID=America/New_York:20260317T200000
DTSTAMP:20260423T050917
CREATED:20260204T173307Z
LAST-MODIFIED:20260204T173307Z
UID:1945-1773774000-1773777600@www.neversinkny.gov
SUMMARY:Zoning Board Meeting
DESCRIPTION:Application Submission Due Date: 03/06/2026
URL:https://www.neversinkny.gov/event/zoning-board-meeting-5/
CATEGORIES:Zoning Board
END:VEVENT
BEGIN:VEVENT
DTSTART;TZID=America/New_York:20260217T190000
DTEND;TZID=America/New_York:20260217T200000
DTSTAMP:20260423T050917
CREATED:20260204T173220Z
LAST-MODIFIED:20260204T173236Z
UID:1942-1771354800-1771358400@www.neversinkny.gov
SUMMARY:Zoning Board Meeting
DESCRIPTION:Application Submission Due Date: 02/06/2026
URL:https://www.neversinkny.gov/event/zoning-board-meeting-4/
CATEGORIES:Zoning Board
END:VEVENT
BEGIN:VEVENT
DTSTART;TZID=America/New_York:20260120T190000
DTEND;TZID=America/New_York:20260120T200000
DTSTAMP:20260423T050917
CREATED:20260204T173150Z
LAST-MODIFIED:20260204T173150Z
UID:1940-1768935600-1768939200@www.neversinkny.gov
SUMMARY:Zoning Board Meeting
DESCRIPTION:Application Submission Due Date: 01/09/2026
URL:https://www.neversinkny.gov/event/zoning-board-meeting-3/
CATEGORIES:Zoning Board
END:VEVENT
BEGIN:VEVENT
DTSTART;TZID=America/New_York:20260120T190000
DTEND;TZID=America/New_York:20260120T200000
DTSTAMP:20260423T050917
CREATED:20251231T183053Z
LAST-MODIFIED:20260113T154119Z
UID:1745-1768935600-1768939200@www.neversinkny.gov
SUMMARY:Zoning Board Meeting *Cancelled*
DESCRIPTION:
URL:https://www.neversinkny.gov/event/zoning-board-meeting-2/
CATEGORIES:Zoning Board
END:VEVENT
BEGIN:VEVENT
DTSTART;TZID=America/New_York:20251216T190000
DTEND;TZID=America/New_York:20251216T200000
DTSTAMP:20260423T050917
CREATED:20251231T183033Z
LAST-MODIFIED:20251231T183033Z
UID:1743-1765911600-1765915200@www.neversinkny.gov
SUMMARY:Zoning Board Meeting
DESCRIPTION:
URL:https://www.neversinkny.gov/event/zoning-board-meeting/
CATEGORIES:Zoning Board
END:VEVENT
BEGIN:VEVENT
DTSTART;TZID=America/New_York:20251118T190000
DTEND;TZID=America/New_York:20251118T200000
DTSTAMP:20260423T050917
CREATED:20251231T182935Z
LAST-MODIFIED:20251231T183008Z
UID:1740-1763492400-1763496000@www.neversinkny.gov
SUMMARY:Zoning Board Meeting
DESCRIPTION:
URL:https://www.neversinkny.gov/event/town-board-meeting-4/
CATEGORIES:Zoning Board
END:VEVENT
END:VCALENDAR