BEGIN:VCALENDAR
VERSION:2.0
PRODID:-//Town of Neversink - ECPv6.15.13//NONSGML v1.0//EN
CALSCALE:GREGORIAN
METHOD:PUBLISH
X-WR-CALNAME:Town of Neversink
X-ORIGINAL-URL:https://www.neversinkny.gov
X-WR-CALDESC:Events for Town of Neversink
REFRESH-INTERVAL;VALUE=DURATION:PT1H
X-Robots-Tag:noindex
X-PUBLISHED-TTL:PT1H
BEGIN:VTIMEZONE
TZID:America/New_York
BEGIN:DAYLIGHT
TZOFFSETFROM:-0500
TZOFFSETTO:-0400
TZNAME:EDT
DTSTART:20240310T070000
END:DAYLIGHT
BEGIN:STANDARD
TZOFFSETFROM:-0400
TZOFFSETTO:-0500
TZNAME:EST
DTSTART:20241103T060000
END:STANDARD
BEGIN:DAYLIGHT
TZOFFSETFROM:-0500
TZOFFSETTO:-0400
TZNAME:EDT
DTSTART:20250309T070000
END:DAYLIGHT
BEGIN:STANDARD
TZOFFSETFROM:-0400
TZOFFSETTO:-0500
TZNAME:EST
DTSTART:20251102T060000
END:STANDARD
BEGIN:DAYLIGHT
TZOFFSETFROM:-0500
TZOFFSETTO:-0400
TZNAME:EDT
DTSTART:20260308T070000
END:DAYLIGHT
BEGIN:STANDARD
TZOFFSETFROM:-0400
TZOFFSETTO:-0500
TZNAME:EST
DTSTART:20261101T060000
END:STANDARD
BEGIN:DAYLIGHT
TZOFFSETFROM:-0500
TZOFFSETTO:-0400
TZNAME:EDT
DTSTART:20270314T070000
END:DAYLIGHT
BEGIN:STANDARD
TZOFFSETFROM:-0400
TZOFFSETTO:-0500
TZNAME:EST
DTSTART:20271107T060000
END:STANDARD
END:VTIMEZONE
BEGIN:VEVENT
DTSTART;VALUE=DATE:20260119
DTEND;VALUE=DATE:20260120
DTSTAMP:20260420T011525
CREATED:20260204T170116Z
LAST-MODIFIED:20260204T170639Z
UID:1882-1768780800-1768867199@www.neversinkny.gov
SUMMARY:Martin Luther King Jr. Day
DESCRIPTION:
URL:https://www.neversinkny.gov/event/martin-luther-king-jr-day/
CATEGORIES:Town of Neversink Holidays
END:VEVENT
BEGIN:VEVENT
DTSTART;TZID=America/New_York:20260114T193000
DTEND;TZID=America/New_York:20260114T203000
DTSTAMP:20260420T011525
CREATED:20251231T182840Z
LAST-MODIFIED:20251231T182840Z
UID:1738-1768419000-1768422600@www.neversinkny.gov
SUMMARY:Town Board Meeting
DESCRIPTION:
URL:https://www.neversinkny.gov/event/town-board-meeting-3/
CATEGORIES:Town Board
END:VEVENT
BEGIN:VEVENT
DTSTART;TZID=America/New_York:20260107T190000
DTEND;TZID=America/New_York:20260107T200000
DTSTAMP:20260420T011525
CREATED:20260204T171801Z
LAST-MODIFIED:20260204T173039Z
UID:1907-1767812400-1767816000@www.neversinkny.gov
SUMMARY:Planning Board Meeting
DESCRIPTION:Application Submission Due Date: 12/26/2026
URL:https://www.neversinkny.gov/event/planning-board-meeting-5/
CATEGORIES:Planning Board
END:VEVENT
BEGIN:VEVENT
DTSTART;TZID=America/New_York:20260107T190000
DTEND;TZID=America/New_York:20260107T200000
DTSTAMP:20260420T011525
CREATED:20251231T181516Z
LAST-MODIFIED:20251231T181720Z
UID:1726-1767812400-1767816000@www.neversinkny.gov
SUMMARY:Planning Board Meeting
DESCRIPTION:
URL:https://www.neversinkny.gov/event/planning-board-meeting/
CATEGORIES:Planning Board
END:VEVENT
BEGIN:VEVENT
DTSTART;VALUE=DATE:20260101
DTEND;VALUE=DATE:20260102
DTSTAMP:20260420T011525
CREATED:20260204T170036Z
LAST-MODIFIED:20260204T170819Z
UID:1880-1767225600-1767311999@www.neversinkny.gov
SUMMARY:New Year’s Day
DESCRIPTION:
URL:https://www.neversinkny.gov/event/new-years-day/
CATEGORIES:Town of Neversink Holidays
END:VEVENT
BEGIN:VEVENT
DTSTART;TZID=America/New_York:20251216T190000
DTEND;TZID=America/New_York:20251216T200000
DTSTAMP:20260420T011525
CREATED:20251231T183033Z
LAST-MODIFIED:20251231T183033Z
UID:1743-1765911600-1765915200@www.neversinkny.gov
SUMMARY:Zoning Board Meeting
DESCRIPTION:
URL:https://www.neversinkny.gov/event/zoning-board-meeting/
CATEGORIES:Zoning Board
END:VEVENT
BEGIN:VEVENT
DTSTART;TZID=America/New_York:20251210T193000
DTEND;TZID=America/New_York:20251210T203000
DTSTAMP:20260420T011525
CREATED:20251231T182814Z
LAST-MODIFIED:20251231T182814Z
UID:1736-1765395000-1765398600@www.neversinkny.gov
SUMMARY:Town Board Meeting
DESCRIPTION:
URL:https://www.neversinkny.gov/event/town-board-meeting-2/
CATEGORIES:Town Board
END:VEVENT
BEGIN:VEVENT
DTSTART;TZID=America/New_York:20251203T190000
DTEND;TZID=America/New_York:20251203T200000
DTSTAMP:20260420T011525
CREATED:20251231T182624Z
LAST-MODIFIED:20251231T182624Z
UID:1730-1764788400-1764792000@www.neversinkny.gov
SUMMARY:Planning Board Meeting
DESCRIPTION:
URL:https://www.neversinkny.gov/event/planning-board-meeting-3/
CATEGORIES:Planning Board
END:VEVENT
BEGIN:VEVENT
DTSTART;TZID=America/New_York:20251118T190000
DTEND;TZID=America/New_York:20251118T200000
DTSTAMP:20260420T011525
CREATED:20251231T182935Z
LAST-MODIFIED:20251231T183008Z
UID:1740-1763492400-1763496000@www.neversinkny.gov
SUMMARY:Zoning Board Meeting
DESCRIPTION:
URL:https://www.neversinkny.gov/event/town-board-meeting-4/
CATEGORIES:Zoning Board
END:VEVENT
BEGIN:VEVENT
DTSTART;TZID=America/New_York:20251112T193000
DTEND;TZID=America/New_York:20251112T203000
DTSTAMP:20260420T011525
CREATED:20251231T182751Z
LAST-MODIFIED:20251231T182751Z
UID:1734-1762975800-1762979400@www.neversinkny.gov
SUMMARY:Town Board Meeting
DESCRIPTION:
URL:https://www.neversinkny.gov/event/town-board-meeting/
CATEGORIES:Town Board
END:VEVENT
BEGIN:VEVENT
DTSTART;TZID=America/New_York:20251105T190000
DTEND;TZID=America/New_York:20251105T200000
DTSTAMP:20260420T011525
CREATED:20251231T182650Z
LAST-MODIFIED:20251231T182650Z
UID:1732-1762369200-1762372800@www.neversinkny.gov
SUMMARY:Planning Board Meeting
DESCRIPTION:
URL:https://www.neversinkny.gov/event/planning-board-meeting-4/
CATEGORIES:Planning Board
END:VEVENT
END:VCALENDAR