BEGIN:VCALENDAR
VERSION:2.0
PRODID:-//Town of Neversink - ECPv6.15.13//NONSGML v1.0//EN
CALSCALE:GREGORIAN
METHOD:PUBLISH
X-ORIGINAL-URL:https://www.neversinkny.gov
X-WR-CALDESC:Events for Town of Neversink
REFRESH-INTERVAL;VALUE=DURATION:PT1H
X-Robots-Tag:noindex
X-PUBLISHED-TTL:PT1H
BEGIN:VTIMEZONE
TZID:America/New_York
BEGIN:DAYLIGHT
TZOFFSETFROM:-0500
TZOFFSETTO:-0400
TZNAME:EDT
DTSTART:20250309T070000
END:DAYLIGHT
BEGIN:STANDARD
TZOFFSETFROM:-0400
TZOFFSETTO:-0500
TZNAME:EST
DTSTART:20251102T060000
END:STANDARD
BEGIN:DAYLIGHT
TZOFFSETFROM:-0500
TZOFFSETTO:-0400
TZNAME:EDT
DTSTART:20260308T070000
END:DAYLIGHT
BEGIN:STANDARD
TZOFFSETFROM:-0400
TZOFFSETTO:-0500
TZNAME:EST
DTSTART:20261101T060000
END:STANDARD
BEGIN:DAYLIGHT
TZOFFSETFROM:-0500
TZOFFSETTO:-0400
TZNAME:EDT
DTSTART:20270314T070000
END:DAYLIGHT
BEGIN:STANDARD
TZOFFSETFROM:-0400
TZOFFSETTO:-0500
TZNAME:EST
DTSTART:20271107T060000
END:STANDARD
END:VTIMEZONE
BEGIN:VEVENT
DTSTART;TZID=America/New_York:20261209T193000
DTEND;TZID=America/New_York:20261209T203000
DTSTAMP:20260423T172658
CREATED:20260204T165931Z
LAST-MODIFIED:20260204T165931Z
UID:1878-1796844600-1796848200@www.neversinkny.gov
SUMMARY:Town Board Meeting
DESCRIPTION:
URL:https://www.neversinkny.gov/event/town-board-meeting-15/
CATEGORIES:Town Board
END:VEVENT
BEGIN:VEVENT
DTSTART;TZID=America/New_York:20261215T190000
DTEND;TZID=America/New_York:20261215T200000
DTSTAMP:20260423T172658
CREATED:20260204T173825Z
LAST-MODIFIED:20260204T173825Z
UID:1963-1797361200-1797364800@www.neversinkny.gov
SUMMARY:Zoning Board Meeting
DESCRIPTION:Application Submission Due Date: 12/04/2026
URL:https://www.neversinkny.gov/event/zoning-board-meeting-14/
CATEGORIES:Zoning Board
END:VEVENT
BEGIN:VEVENT
DTSTART;VALUE=DATE:20261224
DTEND;VALUE=DATE:20261225
DTSTAMP:20260423T172658
CREATED:20260204T171129Z
LAST-MODIFIED:20260204T171204Z
UID:1900-1798070400-1798156799@www.neversinkny.gov
SUMMARY:½ Day Christmas
DESCRIPTION:
URL:https://www.neversinkny.gov/event/thanksgiving/
CATEGORIES:Town of Neversink Holidays
END:VEVENT
BEGIN:VEVENT
DTSTART;VALUE=DATE:20261225
DTEND;VALUE=DATE:20261226
DTSTAMP:20260423T172658
CREATED:20260204T171229Z
LAST-MODIFIED:20260204T171229Z
UID:1903-1798156800-1798243199@www.neversinkny.gov
SUMMARY:Christmas Day
DESCRIPTION:
URL:https://www.neversinkny.gov/event/christmas-day/
CATEGORIES:Town of Neversink Holidays
END:VEVENT
BEGIN:VEVENT
DTSTART;VALUE=DATE:20261231
DTEND;VALUE=DATE:20270101
DTSTAMP:20260423T172658
CREATED:20260204T171255Z
LAST-MODIFIED:20260204T171255Z
UID:1905-1798675200-1798761599@www.neversinkny.gov
SUMMARY:½ Day New Years
DESCRIPTION:
URL:https://www.neversinkny.gov/event/%c2%bd-day-new-years/
CATEGORIES:Town of Neversink Holidays
END:VEVENT
END:VCALENDAR