BEGIN:VCALENDAR
VERSION:2.0
PRODID:-//Town of Neversink - ECPv6.15.13//NONSGML v1.0//EN
CALSCALE:GREGORIAN
METHOD:PUBLISH
X-WR-CALNAME:Town of Neversink
X-ORIGINAL-URL:https://www.neversinkny.gov
X-WR-CALDESC:Events for Town of Neversink
REFRESH-INTERVAL;VALUE=DURATION:PT1H
X-Robots-Tag:noindex
X-PUBLISHED-TTL:PT1H
BEGIN:VTIMEZONE
TZID:America/New_York
BEGIN:DAYLIGHT
TZOFFSETFROM:-0500
TZOFFSETTO:-0400
TZNAME:EDT
DTSTART:20250309T070000
END:DAYLIGHT
BEGIN:STANDARD
TZOFFSETFROM:-0400
TZOFFSETTO:-0500
TZNAME:EST
DTSTART:20251102T060000
END:STANDARD
BEGIN:DAYLIGHT
TZOFFSETFROM:-0500
TZOFFSETTO:-0400
TZNAME:EDT
DTSTART:20260308T070000
END:DAYLIGHT
BEGIN:STANDARD
TZOFFSETFROM:-0400
TZOFFSETTO:-0500
TZNAME:EST
DTSTART:20261101T060000
END:STANDARD
BEGIN:DAYLIGHT
TZOFFSETFROM:-0500
TZOFFSETTO:-0400
TZNAME:EDT
DTSTART:20270314T070000
END:DAYLIGHT
BEGIN:STANDARD
TZOFFSETFROM:-0400
TZOFFSETTO:-0500
TZNAME:EST
DTSTART:20271107T060000
END:STANDARD
END:VTIMEZONE
BEGIN:VEVENT
DTSTART;TZID=America/New_York:20260506T190000
DTEND;TZID=America/New_York:20260506T200000
DTSTAMP:20260421T052641
CREATED:20260204T172032Z
LAST-MODIFIED:20260204T172838Z
UID:1913-1778094000-1778097600@www.neversinkny.gov
SUMMARY:Planning Board Meeting
DESCRIPTION:Application Submission Due Date: 04/24/2026
URL:https://www.neversinkny.gov/event/planning-board-meeting-8/
CATEGORIES:Planning Board
END:VEVENT
BEGIN:VEVENT
DTSTART;TZID=America/New_York:20260513T193000
DTEND;TZID=America/New_York:20260513T203000
DTSTAMP:20260421T052641
CREATED:20260204T165623Z
LAST-MODIFIED:20260204T165623Z
UID:1864-1778700600-1778704200@www.neversinkny.gov
SUMMARY:Town Board Meeting
DESCRIPTION:
URL:https://www.neversinkny.gov/event/town-board-meeting-8/
CATEGORIES:Town Board
END:VEVENT
BEGIN:VEVENT
DTSTART;TZID=America/New_York:20260519T190000
DTEND;TZID=America/New_York:20260519T200000
DTSTAMP:20260421T052641
CREATED:20260204T173419Z
LAST-MODIFIED:20260204T173419Z
UID:1949-1779217200-1779220800@www.neversinkny.gov
SUMMARY:Zoning Board Meeting
DESCRIPTION:Application Submission Due Date: 05/08/2026
URL:https://www.neversinkny.gov/event/zoning-board-meeting-7/
CATEGORIES:Zoning Board
END:VEVENT
BEGIN:VEVENT
DTSTART;VALUE=DATE:20260525
DTEND;VALUE=DATE:20260526
DTSTAMP:20260421T052641
CREATED:20260204T170240Z
LAST-MODIFIED:20260204T170459Z
UID:1888-1779667200-1779753599@www.neversinkny.gov
SUMMARY:Memorial Day
DESCRIPTION:
URL:https://www.neversinkny.gov/event/memorial-day/
CATEGORIES:Town of Neversink Holidays
END:VEVENT
END:VCALENDAR