BEGIN:VCALENDAR
VERSION:2.0
PRODID:-//Town of Neversink - ECPv6.15.13//NONSGML v1.0//EN
CALSCALE:GREGORIAN
METHOD:PUBLISH
X-ORIGINAL-URL:https://www.neversinkny.gov
X-WR-CALDESC:Events for Town of Neversink
REFRESH-INTERVAL;VALUE=DURATION:PT1H
X-Robots-Tag:noindex
X-PUBLISHED-TTL:PT1H
BEGIN:VTIMEZONE
TZID:America/New_York
BEGIN:DAYLIGHT
TZOFFSETFROM:-0500
TZOFFSETTO:-0400
TZNAME:EDT
DTSTART:20250309T070000
END:DAYLIGHT
BEGIN:STANDARD
TZOFFSETFROM:-0400
TZOFFSETTO:-0500
TZNAME:EST
DTSTART:20251102T060000
END:STANDARD
BEGIN:DAYLIGHT
TZOFFSETFROM:-0500
TZOFFSETTO:-0400
TZNAME:EDT
DTSTART:20260308T070000
END:DAYLIGHT
BEGIN:STANDARD
TZOFFSETFROM:-0400
TZOFFSETTO:-0500
TZNAME:EST
DTSTART:20261101T060000
END:STANDARD
BEGIN:DAYLIGHT
TZOFFSETFROM:-0500
TZOFFSETTO:-0400
TZNAME:EDT
DTSTART:20270314T070000
END:DAYLIGHT
BEGIN:STANDARD
TZOFFSETFROM:-0400
TZOFFSETTO:-0500
TZNAME:EST
DTSTART:20271107T060000
END:STANDARD
END:VTIMEZONE
BEGIN:VEVENT
DTSTART;TZID=America/New_York:20261007T190000
DTEND;TZID=America/New_York:20261007T200000
DTSTAMP:20260423T115551
CREATED:20260204T172251Z
LAST-MODIFIED:20260204T172611Z
UID:1923-1791399600-1791403200@www.neversinkny.gov
SUMMARY:Planning Board Meeting
DESCRIPTION:Application Submission Due Date: 09/25/2026
URL:https://www.neversinkny.gov/event/planning-board-meeting-13/
CATEGORIES:Planning Board
END:VEVENT
BEGIN:VEVENT
DTSTART;VALUE=DATE:20261012
DTEND;VALUE=DATE:20261013
DTSTAMP:20260423T115551
CREATED:20260204T170942Z
LAST-MODIFIED:20260204T170942Z
UID:1894-1791763200-1791849599@www.neversinkny.gov
SUMMARY:Columbus Day
DESCRIPTION:
URL:https://www.neversinkny.gov/event/columbus-day/
CATEGORIES:Town of Neversink Holidays
END:VEVENT
BEGIN:VEVENT
DTSTART;TZID=America/New_York:20261014T193000
DTEND;TZID=America/New_York:20261014T203000
DTSTAMP:20260423T115551
CREATED:20260204T165820Z
LAST-MODIFIED:20260204T165848Z
UID:1874-1792006200-1792009800@www.neversinkny.gov
SUMMARY:Town Board Meeting
DESCRIPTION:
URL:https://www.neversinkny.gov/event/town-board-meeting-13/
CATEGORIES:Town Board
END:VEVENT
BEGIN:VEVENT
DTSTART;TZID=America/New_York:20261020T190000
DTEND;TZID=America/New_York:20261020T200000
DTSTAMP:20260423T115551
CREATED:20260204T173718Z
LAST-MODIFIED:20260204T173718Z
UID:1959-1792522800-1792526400@www.neversinkny.gov
SUMMARY:Zoning Board Meeting
DESCRIPTION:Application Submission Due Date: 10/09/2026
URL:https://www.neversinkny.gov/event/zoning-board-meeting-12/
CATEGORIES:Zoning Board
END:VEVENT
END:VCALENDAR