BEGIN:VCALENDAR
VERSION:2.0
PRODID:-//Town of Neversink - ECPv6.15.13//NONSGML v1.0//EN
CALSCALE:GREGORIAN
METHOD:PUBLISH
X-ORIGINAL-URL:https://www.neversinkny.gov
X-WR-CALDESC:Events for Town of Neversink
REFRESH-INTERVAL;VALUE=DURATION:PT1H
X-Robots-Tag:noindex
X-PUBLISHED-TTL:PT1H
BEGIN:VTIMEZONE
TZID:America/New_York
BEGIN:DAYLIGHT
TZOFFSETFROM:-0500
TZOFFSETTO:-0400
TZNAME:EDT
DTSTART:20250309T070000
END:DAYLIGHT
BEGIN:STANDARD
TZOFFSETFROM:-0400
TZOFFSETTO:-0500
TZNAME:EST
DTSTART:20251102T060000
END:STANDARD
BEGIN:DAYLIGHT
TZOFFSETFROM:-0500
TZOFFSETTO:-0400
TZNAME:EDT
DTSTART:20260308T070000
END:DAYLIGHT
BEGIN:STANDARD
TZOFFSETFROM:-0400
TZOFFSETTO:-0500
TZNAME:EST
DTSTART:20261101T060000
END:STANDARD
BEGIN:DAYLIGHT
TZOFFSETFROM:-0500
TZOFFSETTO:-0400
TZNAME:EDT
DTSTART:20270314T070000
END:DAYLIGHT
BEGIN:STANDARD
TZOFFSETFROM:-0400
TZOFFSETTO:-0500
TZNAME:EST
DTSTART:20271107T060000
END:STANDARD
END:VTIMEZONE
BEGIN:VEVENT
DTSTART;VALUE=DATE:20261103
DTEND;VALUE=DATE:20261104
DTSTAMP:20260423T134016
CREATED:20260204T171011Z
LAST-MODIFIED:20260204T171011Z
UID:1896-1793664000-1793750399@www.neversinkny.gov
SUMMARY:Election Day
DESCRIPTION:
URL:https://www.neversinkny.gov/event/election-day/
CATEGORIES:Town of Neversink Holidays
END:VEVENT
BEGIN:VEVENT
DTSTART;TZID=America/New_York:20261104T190000
DTEND;TZID=America/New_York:20261104T200000
DTSTAMP:20260423T134016
CREATED:20260204T172322Z
LAST-MODIFIED:20260204T172532Z
UID:1925-1793818800-1793822400@www.neversinkny.gov
SUMMARY:Planning Board Meeting
DESCRIPTION:Application Submission Due Date: 10/23/2026
URL:https://www.neversinkny.gov/event/planning-board-meeting-14/
CATEGORIES:Planning Board
END:VEVENT
BEGIN:VEVENT
DTSTART;VALUE=DATE:20261111
DTEND;VALUE=DATE:20261112
DTSTAMP:20260423T134016
CREATED:20260204T171038Z
LAST-MODIFIED:20260204T171038Z
UID:1898-1794355200-1794441599@www.neversinkny.gov
SUMMARY:Veteran’s Day
DESCRIPTION:
URL:https://www.neversinkny.gov/event/veterans-day/
CATEGORIES:Town of Neversink Holidays
END:VEVENT
BEGIN:VEVENT
DTSTART;TZID=America/New_York:20261111T193000
DTEND;TZID=America/New_York:20261111T203000
DTSTAMP:20260423T134016
CREATED:20260204T165909Z
LAST-MODIFIED:20260204T165909Z
UID:1876-1794425400-1794429000@www.neversinkny.gov
SUMMARY:Town Board Meeting
DESCRIPTION:
URL:https://www.neversinkny.gov/event/town-board-meeting-14/
CATEGORIES:Town Board
END:VEVENT
BEGIN:VEVENT
DTSTART;TZID=America/New_York:20261117T190000
DTEND;TZID=America/New_York:20261117T200000
DTSTAMP:20260423T134016
CREATED:20260204T173752Z
LAST-MODIFIED:20260204T173752Z
UID:1961-1794942000-1794945600@www.neversinkny.gov
SUMMARY:Zoning Board Meeting
DESCRIPTION:Application Submission Due Date: 11/06/2026
URL:https://www.neversinkny.gov/event/zoning-board-meeting-13/
CATEGORIES:Zoning Board
END:VEVENT
END:VCALENDAR